BEGIN:VCALENDAR
VERSION:2.0
PRODID:-//Tukios.com/
BEGIN:VEVENT
UID:d6d97ad6-7a80-49f1-8d87-6b597ee1f245@www.alexfuneralservice.com
DTSTAMP:20260425T213513Z
DTSTART:20260428T190000Z
DTEND:20260428T200000Z
SUMMARY:Graveside Service
DESCRIPTION:
URL:https://www.alexfuneralservice.com/obituaries/robert-combs
LOCATION: 190 Mill Hill Ct  Stony Point NC 28678
GEO:35.8638393;-81.0547871
END:VEVENT
END:VCALENDAR