BEGIN:VCALENDAR
VERSION:2.0
PRODID:-//Tukios.com/
BEGIN:VEVENT
UID:b9abc275-9a43-415e-9e8e-e4a9ea6cf764@www.alexfuneralservice.com
DTSTAMP:20260422T233104Z
DTSTART:20260426T180000Z
DTEND:20260426T200000Z
SUMMARY:Visitation
DESCRIPTION:
URL:https://www.alexfuneralservice.com/obituaries/robert-connolly
LOCATION: 1551 Carson Chapel Rd  Taylorsville NC 28681
GEO:35.9415644;-81.1312516
END:VEVENT
END:VCALENDAR