BEGIN:VCALENDAR
VERSION:2.0
PRODID:-//Tukios.com/
BEGIN:VEVENT
UID:116404f1-4a71-4e1c-ba67-fb58f4ddf1ae@www.alexfuneralservice.com
DTSTAMP:20260422T233008Z
DTSTART:20260426T200000Z
DTEND:20260426T210000Z
SUMMARY:Funeral Service
DESCRIPTION:
URL:https://www.alexfuneralservice.com/obituaries/robert-connolly
LOCATION: 1551 Carson Chapel Rd  Taylorsville NC 28681
GEO:35.9415644;-81.1312516
END:VEVENT
END:VCALENDAR