BEGIN:VCALENDAR
VERSION:2.0
PRODID:-//Tukios.com/
BEGIN:VEVENT
UID:807ce624-ac6a-4e78-bea1-d7c15e33aaa5@www.alexfuneralservice.com
DTSTAMP:20260422T232849Z
DTSTART:20260426
SUMMARY:Burial
DESCRIPTION:
URL:https://www.alexfuneralservice.com/obituaries/robert-connolly
LOCATION: 1551 Carson Chapel Rd  Taylorsville NC 28681
GEO:35.9415644;-81.1312516
END:VEVENT
END:VCALENDAR